BEGIN:VCALENDAR
VERSION:2.0
PRODID:-//Pelican Park - ECPv6.15.20//NONSGML v1.0//EN
CALSCALE:GREGORIAN
METHOD:PUBLISH
X-WR-CALNAME:Pelican Park
X-ORIGINAL-URL:https://pelicanpark.net
X-WR-CALDESC:Events for Pelican Park
REFRESH-INTERVAL;VALUE=DURATION:PT1H
X-Robots-Tag:noindex
X-PUBLISHED-TTL:PT1H
BEGIN:VTIMEZONE
TZID:UTC
BEGIN:STANDARD
TZOFFSETFROM:+0000
TZOFFSETTO:+0000
TZNAME:UTC
DTSTART:20170101T000000
END:STANDARD
END:VTIMEZONE
BEGIN:VEVENT
DTSTART;VALUE=DATE:20181208
DTEND;VALUE=DATE:20181209
DTSTAMP:20260420T025037
CREATED:20180717T165242Z
LAST-MODIFIED:20180717T170744Z
UID:1206-1544227200-1544313599@pelicanpark.net
SUMMARY:Richie Soley Tourney
DESCRIPTION:
URL:https://pelicanpark.net/event/richie-soley-tourney-6/
END:VEVENT
BEGIN:VEVENT
DTSTART;VALUE=DATE:20181117
DTEND;VALUE=DATE:20181119
DTSTAMP:20260420T025037
CREATED:20180717T165120Z
LAST-MODIFIED:20180717T165120Z
UID:1202-1542412800-1542585599@pelicanpark.net
SUMMARY:Richie Soley Tourney
DESCRIPTION:
URL:https://pelicanpark.net/event/richie-soley-tourney-5/
END:VEVENT
BEGIN:VEVENT
DTSTART;TZID=UTC:20181116T183000
DTEND;TZID=UTC:20181116T223000
DTSTAMP:20260420T025037
CREATED:20181031T184657Z
LAST-MODIFIED:20181031T184657Z
UID:1599-1542393000-1542407400@pelicanpark.net
SUMMARY:Friday Night Post Session Tourney
DESCRIPTION:
URL:https://pelicanpark.net/event/friday-night-post-session-tourney/
END:VEVENT
BEGIN:VEVENT
DTSTART;VALUE=DATE:20181110
DTEND;VALUE=DATE:20181112
DTSTAMP:20260420T025037
CREATED:20180717T165034Z
LAST-MODIFIED:20180717T165034Z
UID:1200-1541808000-1541980799@pelicanpark.net
SUMMARY:Richie Soley Tourney
DESCRIPTION:
URL:https://pelicanpark.net/event/richie-soley-tourney-4/
END:VEVENT
BEGIN:VEVENT
DTSTART;TZID=UTC:20181109T183000
DTEND;TZID=UTC:20181109T223000
DTSTAMP:20260420T025037
CREATED:20181031T184618Z
LAST-MODIFIED:20181031T184618Z
UID:1597-1541788200-1541802600@pelicanpark.net
SUMMARY:Friday Night League Post Session Tourney
DESCRIPTION:
URL:https://pelicanpark.net/event/friday-night-league-post-session-tourney/
END:VEVENT
BEGIN:VEVENT
DTSTART;TZID=UTC:20181107T180000
DTEND;TZID=UTC:20181107T203000
DTSTAMP:20260420T025037
CREATED:20181015T195603Z
LAST-MODIFIED:20181015T195603Z
UID:1530-1541613600-1541622600@pelicanpark.net
SUMMARY:MERCREDI SHOW FEATURING "BLAINE ROY AND SECOND WIND"
DESCRIPTION:
URL:https://pelicanpark.net/event/mercredi-show-featuring-blaine-roy-and-second-wind/
END:VEVENT
BEGIN:VEVENT
DTSTART;TZID=UTC:20181105T080000
DTEND;TZID=UTC:20181105T190000
DTSTAMP:20260420T025037
CREATED:20181015T200248Z
LAST-MODIFIED:20181015T200326Z
UID:1535-1541404800-1541444400@pelicanpark.net
SUMMARY:2D SPORTS TOURNEY
DESCRIPTION:
URL:https://pelicanpark.net/event/2d-sports-tourney-2/
END:VEVENT
BEGIN:VEVENT
DTSTART;VALUE=DATE:20181103
DTEND;VALUE=DATE:20181105
DTSTAMP:20260420T025037
CREATED:20180717T165004Z
LAST-MODIFIED:20180717T165004Z
UID:1198-1541203200-1541375999@pelicanpark.net
SUMMARY:Johnny " No Crying Over Shaved Bats"
DESCRIPTION:
URL:https://pelicanpark.net/event/johnny-no-crying-over-shaved-bats/
END:VEVENT
BEGIN:VEVENT
DTSTART;TZID=UTC:20181102T183000
DTEND;TZID=UTC:20181102T223000
DTSTAMP:20260420T025037
CREATED:20181031T184524Z
LAST-MODIFIED:20181031T184524Z
UID:1595-1541183400-1541197800@pelicanpark.net
SUMMARY:Friday Night League
DESCRIPTION:
URL:https://pelicanpark.net/event/friday-night-league/
END:VEVENT
BEGIN:VEVENT
DTSTART;TZID=UTC:20181028T080000
DTEND;TZID=UTC:20181028T190000
DTSTAMP:20260420T025037
CREATED:20181015T195935Z
LAST-MODIFIED:20181015T200134Z
UID:1533-1540713600-1540753200@pelicanpark.net
SUMMARY:2D SPORTS TOURNEY
DESCRIPTION:
URL:https://pelicanpark.net/event/2d-sports-tourney/
END:VEVENT
BEGIN:VEVENT
DTSTART;VALUE=DATE:20181027
DTEND;VALUE=DATE:20181029
DTSTAMP:20260420T025037
CREATED:20180717T164926Z
LAST-MODIFIED:20181015T194337Z
UID:1196-1540598400-1540771199@pelicanpark.net
SUMMARY:THE ROUGAROU TOURNEY
DESCRIPTION:HALLOWEEN COSTUME CONTEST
URL:https://pelicanpark.net/event/richie-soley-tourney-3/
END:VEVENT
BEGIN:VEVENT
DTSTART;TZID=UTC:20181025T173000
DTEND;TZID=UTC:20181025T203000
DTSTAMP:20260420T025037
CREATED:20181015T195250Z
LAST-MODIFIED:20181015T195250Z
UID:1525-1540488600-1540499400@pelicanpark.net
SUMMARY:T-BALL---COACH PITCH---9U BASEBALL GAMES
DESCRIPTION:
URL:https://pelicanpark.net/event/t-ball-coach-pitch-9u-baseball-games/
END:VEVENT
BEGIN:VEVENT
DTSTART;TZID=UTC:20181024T180000
DTEND;TZID=UTC:20181024T203000
DTSTAMP:20260420T025037
CREATED:20181015T195412Z
LAST-MODIFIED:20181015T195431Z
UID:1527-1540404000-1540413000@pelicanpark.net
SUMMARY:MERCREDI SHOW FEATURING "COUNTRY ROUND UP
DESCRIPTION:
URL:https://pelicanpark.net/event/mercredi-shoe-featuring-country-round-up/
END:VEVENT
BEGIN:VEVENT
DTSTART;TZID=UTC:20181023T173000
DTEND;TZID=UTC:20181023T200000
DTSTAMP:20260420T025037
CREATED:20181015T195148Z
LAST-MODIFIED:20181015T195148Z
UID:1523-1540315800-1540324800@pelicanpark.net
SUMMARY:WEE BALL GAMES
DESCRIPTION:
URL:https://pelicanpark.net/event/wee-ball-games-3/
END:VEVENT
BEGIN:VEVENT
DTSTART;TZID=UTC:20181019T183000
DTEND;TZID=UTC:20181019T223000
DTSTAMP:20260420T025037
CREATED:20181015T193838Z
LAST-MODIFIED:20181015T193838Z
UID:1511-1539973800-1539988200@pelicanpark.net
SUMMARY:League
DESCRIPTION:
URL:https://pelicanpark.net/event/league/
END:VEVENT
BEGIN:VEVENT
DTSTART;VALUE=DATE:20181019
DTEND;VALUE=DATE:20181022
DTSTAMP:20260420T025037
CREATED:20180717T164840Z
LAST-MODIFIED:20180717T164840Z
UID:1194-1539907200-1540166399@pelicanpark.net
SUMMARY:SPECIAL OLYMPIC FALL STATE
DESCRIPTION:
URL:https://pelicanpark.net/event/special-olympic-fall-state/
END:VEVENT
BEGIN:VEVENT
DTSTART;TZID=UTC:20181018T173000
DTEND;TZID=UTC:20181018T203000
DTSTAMP:20260420T025037
CREATED:20181015T194530Z
LAST-MODIFIED:20181015T195007Z
UID:1516-1539883800-1539894600@pelicanpark.net
SUMMARY:T-BALL--COACH PITCH---9U BASEBALL GAMES
DESCRIPTION:
URL:https://pelicanpark.net/event/wee-ball-games/
END:VEVENT
BEGIN:VEVENT
DTSTART;TZID=UTC:20181017T180000
DTEND;TZID=UTC:20181017T203000
DTSTAMP:20260420T025037
CREATED:20180717T163513Z
LAST-MODIFIED:20180717T163513Z
UID:1168-1539799200-1539808200@pelicanpark.net
SUMMARY:Mercredi  " Jamie Bergeron & The Kickin` Cajuns"
DESCRIPTION:
URL:https://pelicanpark.net/event/mercredi-jamie-bergeron-the-kickin-cajuns/
END:VEVENT
BEGIN:VEVENT
DTSTART;TZID=UTC:20181017T180000
DTEND;TZID=UTC:20181017T203000
DTSTAMP:20260420T025037
CREATED:20180717T160444Z
LAST-MODIFIED:20180717T161039Z
UID:1142-1539799200-1539808200@pelicanpark.net
SUMMARY:Mercredi Show  "Jamie Bergeron & the Kickin` Cajuns"
DESCRIPTION:
URL:https://pelicanpark.net/event/cajun-classic-majors/
END:VEVENT
BEGIN:VEVENT
DTSTART;TZID=UTC:20181016T173000
DTEND;TZID=UTC:20181016T193000
DTSTAMP:20260420T025037
CREATED:20181015T195116Z
LAST-MODIFIED:20181015T195116Z
UID:1521-1539711000-1539718200@pelicanpark.net
SUMMARY:WEE BALL GAMES
DESCRIPTION:
URL:https://pelicanpark.net/event/wee-ball-games-2/
END:VEVENT
BEGIN:VEVENT
DTSTART;TZID=UTC:20181012T223000
DTEND;TZID=UTC:20181013T170000
DTSTAMP:20260420T025037
CREATED:20180717T164800Z
LAST-MODIFIED:20180717T164800Z
UID:1192-1539383400-1539450000@pelicanpark.net
SUMMARY:Johnny "Midnight Madness"
DESCRIPTION:
URL:https://pelicanpark.net/event/johnny-midnight-madness/
END:VEVENT
BEGIN:VEVENT
DTSTART;TZID=UTC:20181010T180000
DTEND;TZID=UTC:20181010T203000
DTSTAMP:20260420T025037
CREATED:20180717T163424Z
LAST-MODIFIED:20180717T163424Z
UID:1166-1539194400-1539203400@pelicanpark.net
SUMMARY:Mercredi  "Warren Storm\, Willie Tee & The Cypress Band"
DESCRIPTION:
URL:https://pelicanpark.net/event/mercredi-warren-storm-willie-tee-the-cypress-band/
END:VEVENT
BEGIN:VEVENT
DTSTART;VALUE=DATE:20181005
DTEND;VALUE=DATE:20181008
DTSTAMP:20260420T025037
CREATED:20180717T164656Z
LAST-MODIFIED:20180717T164656Z
UID:1190-1538697600-1538956799@pelicanpark.net
SUMMARY:Carencro High Alumni Tourney
DESCRIPTION:
URL:https://pelicanpark.net/event/carencro-high-alumni-tourney/
END:VEVENT
BEGIN:VEVENT
DTSTART;TZID=UTC:20181003T180000
DTEND;TZID=UTC:20181003T203000
DTSTAMP:20260420T025037
CREATED:20180717T163323Z
LAST-MODIFIED:20180717T163323Z
UID:1164-1538589600-1538598600@pelicanpark.net
SUMMARY:Mercredi  "Damon Troy"
DESCRIPTION:
URL:https://pelicanpark.net/event/mercredi-damon-troy/
END:VEVENT
BEGIN:VEVENT
DTSTART;VALUE=DATE:20180929
DTEND;VALUE=DATE:20181001
DTSTAMP:20260420T025037
CREATED:20180717T164623Z
LAST-MODIFIED:20180717T164623Z
UID:1188-1538179200-1538351999@pelicanpark.net
SUMMARY:Johnny "Insert Over Used Bat Tourney"
DESCRIPTION:
URL:https://pelicanpark.net/event/johnny-insert-over-used-bat-tourney/
END:VEVENT
BEGIN:VEVENT
DTSTART;TZID=UTC:20180926T180000
DTEND;TZID=UTC:20180926T203000
DTSTAMP:20260420T025037
CREATED:20180717T163243Z
LAST-MODIFIED:20180717T163243Z
UID:1162-1537984800-1537993800@pelicanpark.net
SUMMARY:Mercredi  "Blaine Roy & Second Wind"
DESCRIPTION:
URL:https://pelicanpark.net/event/mercredi-blaine-roy-second-wind/
END:VEVENT
BEGIN:VEVENT
DTSTART;VALUE=DATE:20180922
DTEND;VALUE=DATE:20180924
DTSTAMP:20260420T025037
CREATED:20180717T164541Z
LAST-MODIFIED:20180717T164541Z
UID:1186-1537574400-1537747199@pelicanpark.net
SUMMARY:Cajun Fitness Tourney Benefit St Judes
DESCRIPTION:
URL:https://pelicanpark.net/event/cajun-fitness-tourney-benefit-st-judes/
END:VEVENT
BEGIN:VEVENT
DTSTART;TZID=UTC:20180919T180000
DTEND;TZID=UTC:20180919T203000
DTSTAMP:20260420T025037
CREATED:20180717T162206Z
LAST-MODIFIED:20180717T162206Z
UID:1160-1537380000-1537389000@pelicanpark.net
SUMMARY:Mercredi   "Stop The Clock"
DESCRIPTION:
URL:https://pelicanpark.net/event/mercredi-stop-the-clock/
END:VEVENT
BEGIN:VEVENT
DTSTART;VALUE=DATE:20180915
DTEND;VALUE=DATE:20180917
DTSTAMP:20260420T025037
CREATED:20180717T164458Z
LAST-MODIFIED:20180717T164458Z
UID:1184-1536969600-1537142399@pelicanpark.net
SUMMARY:Johnny  "Road To Rings"
DESCRIPTION:
URL:https://pelicanpark.net/event/johnny-road-to-rings/
END:VEVENT
BEGIN:VEVENT
DTSTART;TZID=UTC:20180912T180000
DTEND;TZID=UTC:20180912T203000
DTSTAMP:20260420T025037
CREATED:20180717T161647Z
LAST-MODIFIED:20180717T161754Z
UID:1155-1536775200-1536784200@pelicanpark.net
SUMMARY:Mercredi   "Nik-L-Beer"
DESCRIPTION:
URL:https://pelicanpark.net/event/mercredi-dustin-sonnier-the-wanted/
END:VEVENT
END:VCALENDAR