BEGIN:VCALENDAR
VERSION:2.0
PRODID:-//Pelican Park - ECPv6.15.20//NONSGML v1.0//EN
CALSCALE:GREGORIAN
METHOD:PUBLISH
X-WR-CALNAME:Pelican Park
X-ORIGINAL-URL:https://pelicanpark.net
X-WR-CALDESC:Events for Pelican Park
REFRESH-INTERVAL;VALUE=DURATION:PT1H
X-Robots-Tag:noindex
X-PUBLISHED-TTL:PT1H
BEGIN:VTIMEZONE
TZID:UTC
BEGIN:STANDARD
TZOFFSETFROM:+0000
TZOFFSETTO:+0000
TZNAME:UTC
DTSTART:20170101T000000
END:STANDARD
END:VTIMEZONE
BEGIN:VEVENT
DTSTART;TZID=UTC:20190221T160000
DTEND;TZID=UTC:20190221T180000
DTSTAMP:20260419T213133
CREATED:20190128T175928Z
LAST-MODIFIED:20190128T175928Z
UID:2404-1550764800-1550772000@pelicanpark.net
SUMMARY:David Thibodeaux Lady Bulldogs Softball 4PM
DESCRIPTION:
URL:https://pelicanpark.net/event/david-thibodeaux-lady-bulldogs-softball-4pm-2/
END:VEVENT
BEGIN:VEVENT
DTSTART;TZID=UTC:20190220T173000
DTEND;TZID=UTC:20190220T210000
DTSTAMP:20260419T213133
CREATED:20190128T194707Z
LAST-MODIFIED:20190128T194707Z
UID:2449-1550683800-1550696400@pelicanpark.net
SUMMARY:Catholic League Girls & Boys 5th\, 6th 7th & 8th Grade League
DESCRIPTION:
URL:https://pelicanpark.net/event/catholic-league-girls-boys-5th-6th-7th-8th-grade-league-6/
END:VEVENT
BEGIN:VEVENT
DTSTART;TZID=UTC:20190219T173000
DTEND;TZID=UTC:20190219T210000
DTSTAMP:20260419T213133
CREATED:20190128T194632Z
LAST-MODIFIED:20190128T194632Z
UID:2447-1550597400-1550610000@pelicanpark.net
SUMMARY:Catholic League Girls & Boys 5th\, 6th 7th & 8th Grade League
DESCRIPTION:
URL:https://pelicanpark.net/event/catholic-league-girls-boys-5th-6th-7th-8th-grade-league-5/
END:VEVENT
BEGIN:VEVENT
DTSTART;TZID=UTC:20190219T160000
DTEND;TZID=UTC:20190219T180000
DTSTAMP:20260419T213133
CREATED:20190128T175856Z
LAST-MODIFIED:20190128T175856Z
UID:2402-1550592000-1550599200@pelicanpark.net
SUMMARY:David Thibodeaux Lady Bulldogs Softball 4PM
DESCRIPTION:
URL:https://pelicanpark.net/event/david-thibodeaux-lady-bulldogs-softball-4pm/
END:VEVENT
BEGIN:VEVENT
DTSTART;TZID=UTC:20190219T160000
DTEND;TZID=UTC:20190219T180000
DTSTAMP:20260419T213133
CREATED:20190128T174952Z
LAST-MODIFIED:20190128T174952Z
UID:2379-1550592000-1550599200@pelicanpark.net
SUMMARY:LCA Knights Softball 4PM
DESCRIPTION:
URL:https://pelicanpark.net/event/lca-knights-softball-4pm/
END:VEVENT
BEGIN:VEVENT
DTSTART;TZID=UTC:20190218T173000
DTEND;TZID=UTC:20190218T210000
DTSTAMP:20260419T213133
CREATED:20190128T194604Z
LAST-MODIFIED:20190128T194604Z
UID:2445-1550511000-1550523600@pelicanpark.net
SUMMARY:Catholic League Girls & Boys 5th\, 6th 7th & 8th Grade League
DESCRIPTION:
URL:https://pelicanpark.net/event/catholic-league-girls-boys-5th-6th-7th-8th-grade-league-4/
END:VEVENT
BEGIN:VEVENT
DTSTART;TZID=UTC:20190216T080000
DTEND;TZID=UTC:20190216T230000
DTSTAMP:20260419T213133
CREATED:20190104T231736Z
LAST-MODIFIED:20190104T231810Z
UID:1895-1550304000-1550358000@pelicanpark.net
SUMMARY:Richie Soley Tournament
DESCRIPTION:
URL:https://pelicanpark.net/event/richie-soley-torunament/
END:VEVENT
BEGIN:VEVENT
DTSTART;TZID=UTC:20190215T173000
DTEND;TZID=UTC:20190215T210000
DTSTAMP:20260419T213133
CREATED:20190128T194533Z
LAST-MODIFIED:20190128T194533Z
UID:2443-1550251800-1550264400@pelicanpark.net
SUMMARY:Catholic League Girls & Boys 5th\, 6th 7th & 8th Grade League
DESCRIPTION:
URL:https://pelicanpark.net/event/catholic-league-girls-boys-5th-6th-7th-8th-grade-league-3/
END:VEVENT
BEGIN:VEVENT
DTSTART;TZID=UTC:20190214T173000
DTEND;TZID=UTC:20190214T210000
DTSTAMP:20260419T213133
CREATED:20190128T194505Z
LAST-MODIFIED:20190128T194505Z
UID:2441-1550165400-1550178000@pelicanpark.net
SUMMARY:Catholic League Girls & Boys 5th\, 6th 7th & 8th Grade League
DESCRIPTION:
URL:https://pelicanpark.net/event/catholic-league-girls-boys-5th-6th-7th-8th-grade-league-2/
END:VEVENT
BEGIN:VEVENT
DTSTART;TZID=UTC:20190213T173000
DTEND;TZID=UTC:20190213T210000
DTSTAMP:20260419T213133
CREATED:20190128T194437Z
LAST-MODIFIED:20190128T194437Z
UID:2439-1550079000-1550091600@pelicanpark.net
SUMMARY:Catholic League Girls & Boys 5th\, 6th 7th & 8th Grade League
DESCRIPTION:
URL:https://pelicanpark.net/event/catholic-league-girls-boys-5th-6th-7th-8th-grade-league/
END:VEVENT
BEGIN:VEVENT
DTSTART;TZID=UTC:20190212T173000
DTEND;TZID=UTC:20190212T210000
DTSTAMP:20260419T213133
CREATED:20190128T193739Z
LAST-MODIFIED:20190128T194335Z
UID:2430-1549992600-1550005200@pelicanpark.net
SUMMARY:Catholic League Girls & Boys 5th\, 6th 7th & 8th Grade League
DESCRIPTION:
URL:https://pelicanpark.net/event/catholic-league-girls-fastpitch-5th-6th-7th-8th-grade-league-7/
END:VEVENT
BEGIN:VEVENT
DTSTART;TZID=UTC:20190212T160000
DTEND;TZID=UTC:20190212T180000
DTSTAMP:20260419T213133
CREATED:20190128T174226Z
LAST-MODIFIED:20190128T174226Z
UID:2361-1549987200-1549994400@pelicanpark.net
SUMMARY:Carencro High Lady Bears Softball 4PM
DESCRIPTION:
URL:https://pelicanpark.net/event/carencro-high-lady-bears-softball-4pm/
END:VEVENT
BEGIN:VEVENT
DTSTART;TZID=UTC:20190211T173000
DTEND;TZID=UTC:20190211T210000
DTSTAMP:20260419T213133
CREATED:20190128T193708Z
LAST-MODIFIED:20190128T194302Z
UID:2428-1549906200-1549918800@pelicanpark.net
SUMMARY:Catholic League Girls & Boys 5th\, 6th 7th & 8th Grade League
DESCRIPTION:
URL:https://pelicanpark.net/event/catholic-league-girls-fastpitch-5th-6th-7th-8th-grade-league-6/
END:VEVENT
BEGIN:VEVENT
DTSTART;TZID=UTC:20190209T080000
DTEND;TZID=UTC:20190209T230000
DTSTAMP:20260419T213133
CREATED:20190104T231703Z
LAST-MODIFIED:20190104T231703Z
UID:1893-1549699200-1549753200@pelicanpark.net
SUMMARY:Richie Soley Tournament
DESCRIPTION:
URL:https://pelicanpark.net/event/richie-soley-tournament-3/
END:VEVENT
BEGIN:VEVENT
DTSTART;TZID=UTC:20190208T173000
DTEND;TZID=UTC:20190208T210000
DTSTAMP:20260419T213133
CREATED:20190128T192216Z
LAST-MODIFIED:20190128T194223Z
UID:2426-1549647000-1549659600@pelicanpark.net
SUMMARY:Catholic League Girls & Boys 5th\, 6th 7th & 8th Grade League
DESCRIPTION:
URL:https://pelicanpark.net/event/catholic-league-girls-fastpitch-5th-6th-7th-8th-grade-league-5/
END:VEVENT
BEGIN:VEVENT
DTSTART;TZID=UTC:20190207T173000
DTEND;TZID=UTC:20190207T210000
DTSTAMP:20260419T213133
CREATED:20190128T192122Z
LAST-MODIFIED:20190128T194145Z
UID:2424-1549560600-1549573200@pelicanpark.net
SUMMARY:Catholic League Girls & Boys 5th\, 6th 7th & 8th Grade League
DESCRIPTION:
URL:https://pelicanpark.net/event/catholic-league-girls-fastpitch-5th-6th-7th-8th-grade-league-4/
END:VEVENT
BEGIN:VEVENT
DTSTART;TZID=UTC:20190206T173000
DTEND;TZID=UTC:20190206T210000
DTSTAMP:20260419T213133
CREATED:20190128T192047Z
LAST-MODIFIED:20190128T194103Z
UID:2422-1549474200-1549486800@pelicanpark.net
SUMMARY:Catholic League Girls & Boys 5th\, 6th 7th & 8th Grade League
DESCRIPTION:
URL:https://pelicanpark.net/event/catholic-league-girls-fastpitch-5th-6th-7th-8th-grade-league-3/
END:VEVENT
BEGIN:VEVENT
DTSTART;TZID=UTC:20190205T173000
DTEND;TZID=UTC:20190205T210000
DTSTAMP:20260419T213133
CREATED:20190128T192016Z
LAST-MODIFIED:20190128T194019Z
UID:2420-1549387800-1549400400@pelicanpark.net
SUMMARY:Catholic League Girls & Boys 5th\, 6th 7th & 8th Grade League
DESCRIPTION:
URL:https://pelicanpark.net/event/catholic-league-girls-fastpitch-5th-6th-7th-8th-grade-league-2/
END:VEVENT
BEGIN:VEVENT
DTSTART;TZID=UTC:20190204T173000
DTEND;TZID=UTC:20190204T210000
DTSTAMP:20260419T213133
CREATED:20190128T191914Z
LAST-MODIFIED:20190128T193921Z
UID:2418-1549301400-1549314000@pelicanpark.net
SUMMARY:Catholic League Girls & Boys 5th\, 6th 7th & 8th Grade League
DESCRIPTION:
URL:https://pelicanpark.net/event/catholic-league-girls-fastpitch-5th-6th-7th-8th-grade-league/
END:VEVENT
BEGIN:VEVENT
DTSTART;TZID=UTC:20190202T080000
DTEND;TZID=UTC:20190202T230000
DTSTAMP:20260419T213133
CREATED:20190104T225010Z
LAST-MODIFIED:20190104T225010Z
UID:1890-1549094400-1549148400@pelicanpark.net
SUMMARY:Richie Soley Tournament
DESCRIPTION:
URL:https://pelicanpark.net/event/richie-soley-tournament-2/
END:VEVENT
BEGIN:VEVENT
DTSTART;TZID=UTC:20190126T080000
DTEND;TZID=UTC:20190126T230000
DTSTAMP:20260419T213133
CREATED:20190104T222803Z
LAST-MODIFIED:20190104T222829Z
UID:1884-1548489600-1548543600@pelicanpark.net
SUMMARY:Richie Soley Tournament
DESCRIPTION:
URL:https://pelicanpark.net/event/richie-soley-tournament/
END:VEVENT
BEGIN:VEVENT
DTSTART;TZID=UTC:20190123T183000
DTEND;TZID=UTC:20190123T223000
DTSTAMP:20260419T213133
CREATED:20190108T170052Z
LAST-MODIFIED:20190108T170052Z
UID:2017-1548268200-1548282600@pelicanpark.net
SUMMARY:One Pitch Tournament
DESCRIPTION:
URL:https://pelicanpark.net/event/one-pitch-tournament-2/
END:VEVENT
BEGIN:VEVENT
DTSTART;TZID=UTC:20190119T080000
DTEND;TZID=UTC:20190119T230000
DTSTAMP:20260419T213133
CREATED:20190104T222936Z
LAST-MODIFIED:20190104T222936Z
UID:1886-1547884800-1547938800@pelicanpark.net
SUMMARY:Richie Soley
DESCRIPTION:
URL:https://pelicanpark.net/event/richie-soley-4/
END:VEVENT
BEGIN:VEVENT
DTSTART;TZID=UTC:20190112T090000
DTEND;TZID=UTC:20190112T230000
DTSTAMP:20260419T213133
CREATED:20190104T222720Z
LAST-MODIFIED:20190104T222720Z
UID:1882-1547283600-1547334000@pelicanpark.net
SUMMARY:Iron Man Tournament
DESCRIPTION:
URL:https://pelicanpark.net/event/iron-man-tournament-2/
END:VEVENT
BEGIN:VEVENT
DTSTART;TZID=UTC:20190109T190000
DTEND;TZID=UTC:20190109T223000
DTSTAMP:20260419T213133
CREATED:20190108T165952Z
LAST-MODIFIED:20190108T165952Z
UID:2015-1547060400-1547073000@pelicanpark.net
SUMMARY:One Pitch Tournament
DESCRIPTION:
URL:https://pelicanpark.net/event/one-pitch-tournament/
END:VEVENT
BEGIN:VEVENT
DTSTART;TZID=UTC:20190105T090000
DTEND;TZID=UTC:20190105T230000
DTSTAMP:20260419T213133
CREATED:20190104T222637Z
LAST-MODIFIED:20190104T222637Z
UID:1880-1546678800-1546729200@pelicanpark.net
SUMMARY:Iron Man Tournament
DESCRIPTION:
URL:https://pelicanpark.net/event/iron-man-tournament/
END:VEVENT
BEGIN:VEVENT
DTSTART;VALUE=DATE:20181230
DTEND;VALUE=DATE:20181231
DTSTAMP:20260419T213133
CREATED:20181130T212821Z
LAST-MODIFIED:20181130T212836Z
UID:1713-1546128000-1546214399@pelicanpark.net
SUMMARY:New Years Bash Softball Tournament
DESCRIPTION:
URL:https://pelicanpark.net/event/new-years-bash-softball-tournament/
END:VEVENT
BEGIN:VEVENT
DTSTART;VALUE=DATE:20181229
DTEND;VALUE=DATE:20181230
DTSTAMP:20260419T213133
CREATED:20181130T213016Z
LAST-MODIFIED:20181130T213023Z
UID:1715-1546041600-1546127999@pelicanpark.net
SUMMARY:New Years Bash Softball Tournament
DESCRIPTION:
URL:https://pelicanpark.net/event/new-years-bash-softball-tournament-2/
END:VEVENT
BEGIN:VEVENT
DTSTART;VALUE=DATE:20181225
DTEND;VALUE=DATE:20181226
DTSTAMP:20260419T213133
CREATED:20181130T213153Z
LAST-MODIFIED:20181130T213202Z
UID:1717-1545696000-1545782399@pelicanpark.net
SUMMARY:MERRY CHRISTMAS from the Staff at PELICAN PARK
DESCRIPTION:
URL:https://pelicanpark.net/event/merry-christmas-from-the-staff-at-pelican-park/
END:VEVENT
BEGIN:VEVENT
DTSTART;VALUE=DATE:20181215
DTEND;VALUE=DATE:20181217
DTSTAMP:20260419T213133
CREATED:20180717T170858Z
LAST-MODIFIED:20180717T170858Z
UID:1208-1544832000-1545004799@pelicanpark.net
SUMMARY:Johnny "Chicks Dig The Long Ball"
DESCRIPTION:
URL:https://pelicanpark.net/event/johnny-chicks-dig-the-long-ball/
END:VEVENT
END:VCALENDAR